BEGIN:VCALENDAR
VERSION:2.0
PRODID:-//SVP Kanton Schwyz //NONSGML Events //EN
CALSCALE:GREGORIAN
X-WR-CALNAME:SVP Kanton Schwyz
BEGIN:VEVENT
CREATED:20201204T070845Z
UID:10965
DTEND:20210309T000000
DTSTART:20210309T000000
DTSTAMP:20231024T153754Z
LOCATION:Bern
DESCRIPTION:
SUMMARY:Treffen Fraktion mit kant. Fraktionspräsidenten
ORGANIZER:
URL;VALUE=URI:https://www.svp-sz.ch/aktuell/termine/treffen-fraktion-mit-kant-fraktionspraesidenten/
TRANSP:OPAQUE
END:VEVENT
END:VCALENDAR
