BEGIN:VCALENDAR
VERSION:2.0
PRODID:-//SVP Kanton Schwyz //NONSGML Events //EN
CALSCALE:GREGORIAN
X-WR-CALNAME:SVP Kanton Schwyz
BEGIN:VEVENT
CREATED:20201204T070729Z
UID:10963
DTEND:20210220T000000
DTSTART:20210220T000000
DTSTAMP:20231024T153552Z
LOCATION:
DESCRIPTION:
SUMMARY:Jass-Cup SVP Schweiz &#8211\; ABGESAGT
ORGANIZER:
URL;VALUE=URI:https://www.svp-sz.ch/aktuell/termine/jass-cup-svp-schweiz/
TRANSP:OPAQUE
END:VEVENT
END:VCALENDAR
