BEGIN:VCALENDAR
VERSION:2.0
PRODID:-//SVP Kanton Schwyz //NONSGML Events //EN
CALSCALE:GREGORIAN
X-WR-CALNAME:SVP Kanton Schwyz
BEGIN:VEVENT
CREATED:20201204T070649Z
UID:10961
DTEND:20210109T000000
DTSTART:20210108T000000
DTSTAMP:20231024T153440Z
LOCATION:
DESCRIPTION:
SUMMARY:Bad Horn Tagung &#8211\; ABGESAGT
ORGANIZER:
URL;VALUE=URI:https://www.svp-sz.ch/aktuell/termine/bad-horn-tagung/
TRANSP:OPAQUE
END:VEVENT
END:VCALENDAR
