BEGIN:VCALENDAR
VERSION:2.0
PRODID:-//SVP Kanton Schwyz //NONSGML Events //EN
CALSCALE:GREGORIAN
X-WR-CALNAME:SVP Kanton Schwyz
BEGIN:VEVENT
CREATED:20201204T070550Z
UID:10959
DTEND:20211209T210000
DTSTART:20211209T200000
DTSTAMP:20231024T153732Z
LOCATION:
DESCRIPTION:ao. Generalversammlung / Budget 2022
SUMMARY:ao. Generalversammlung
ORGANIZER:
URL;VALUE=URI:https://www.svp-sz.ch/aktuell/termine/ao-generalversammlung/
TRANSP:OPAQUE
END:VEVENT
END:VCALENDAR
