BEGIN:VCALENDAR
VERSION:2.0
PRODID:-//SVP Kanton Schwyz //NONSGML Events //EN
CALSCALE:GREGORIAN
X-WR-CALNAME:SVP Kanton Schwyz
BEGIN:VEVENT
CREATED:20201204T070450Z
UID:10957
DTEND:20211102T210000
DTSTART:20211102T200000
DTSTAMP:20231024T153656Z
LOCATION:Schönenbuchstrasse 47\, 6438 Ibach
DESCRIPTION: Einladung Parteiversammlung Restaurant Pension Betschart, Schönenbuc
SUMMARY:Parteiversammlung
ORGANIZER:
URL;VALUE=URI:https://www.svp-sz.ch/aktuell/termine/02-11-2021/
TRANSP:OPAQUE
END:VEVENT
END:VCALENDAR
