BEGIN:VCALENDAR
VERSION:2.0
PRODID:-//SVP Kanton Schwyz //NONSGML Events //EN
CALSCALE:GREGORIAN
X-WR-CALNAME:SVP Kanton Schwyz
BEGIN:VEVENT
CREATED:20201204T065927Z
UID:10949
DTEND:20210209T220000
DTSTART:20210209T200000
DTSTAMP:20231024T153816Z
LOCATION:Online-Veranstaltung via Zoom (Informationen folgen)
DESCRIPTION:(Parolen 07.03.2021) Alle wichtigen Informationen können Sie dem nach
SUMMARY:Parteiversammlung
ORGANIZER:
URL;VALUE=URI:https://www.svp-sz.ch/aktuell/termine/parteiversammlung/
TRANSP:OPAQUE
END:VEVENT
END:VCALENDAR
