BEGIN:VCALENDAR
VERSION:2.0
PRODID:-//SVP Kanton Schwyz //NONSGML Events //EN
CALSCALE:GREGORIAN
X-WR-CALNAME:SVP Kanton Schwyz
BEGIN:VEVENT
CREATED:20201204T065600Z
UID:10947
DTEND:20211030T000000
DTSTART:20211023T000000
DTSTAMP:20231024T153934Z
LOCATION:
DESCRIPTION:
SUMMARY:Delegiertenversammlung
ORGANIZER:
URL;VALUE=URI:https://www.svp-sz.ch/aktuell/termine/delegiertenversammlung-4/
TRANSP:OPAQUE
END:VEVENT
END:VCALENDAR
