BEGIN:VCALENDAR
VERSION:2.0
PRODID:-//SVP Kanton Schwyz //NONSGML Events //EN
CALSCALE:GREGORIAN
X-WR-CALNAME:SVP Kanton Schwyz
BEGIN:VEVENT
CREATED:20201204T065446Z
UID:10943
DTEND:20210327T000000
DTSTART:20210327T000000
DTSTAMP:20231024T153931Z
LOCATION:
DESCRIPTION:
SUMMARY:Delegiertenversammlung
ORGANIZER:
URL;VALUE=URI:https://www.svp-sz.ch/aktuell/termine/delegiertenversammlung-2/
TRANSP:OPAQUE
END:VEVENT
END:VCALENDAR
