BEGIN:VCALENDAR
VERSION:2.0
PRODID:-//SVP Kanton Schwyz //NONSGML Events //EN
CALSCALE:GREGORIAN
X-WR-CALNAME:SVP Kanton Schwyz
BEGIN:VEVENT
CREATED:20201204T065114Z
UID:10936
DTEND:20210926T000000
DTSTART:20210926T000000
DTSTAMP:20231024T153740Z
LOCATION:
DESCRIPTION:
SUMMARY:Eidgenössische und kantonale Abstimmung
ORGANIZER:
URL;VALUE=URI:https://www.svp-sz.ch/aktuell/termine/eidgenoessische-und-kantonale-abstimmung-3/
TRANSP:OPAQUE
END:VEVENT
END:VCALENDAR
