BEGIN:VCALENDAR
VERSION:2.0
PRODID:-//SVP Kanton Schwyz //NONSGML Events //EN
CALSCALE:GREGORIAN
X-WR-CALNAME:SVP Kanton Schwyz
BEGIN:VEVENT
CREATED:20201204T064950Z
UID:10932
DTEND:20210307T000000
DTSTART:20210307T000000
DTSTAMP:20231024T153450Z
LOCATION:
DESCRIPTION:
SUMMARY:Eidgenössische und kantonale Abstimmung
ORGANIZER:
URL;VALUE=URI:https://www.svp-sz.ch/aktuell/termine/eidgenoessische-und-kantonale-abstimmung/
TRANSP:OPAQUE
END:VEVENT
END:VCALENDAR
