BEGIN:VCALENDAR
VERSION:2.0
PRODID:-//SVP Kanton Schwyz //NONSGML Events //EN
CALSCALE:GREGORIAN
X-WR-CALNAME:SVP Kanton Schwyz
BEGIN:VEVENT
CREATED:20200914T072204Z
UID:10492
DTEND:20201216T000000
DTSTART:20201216T000000
DTSTAMP:20231024T153551Z
LOCATION:
DESCRIPTION:
SUMMARY:Session Schwyzer Kantonsrat
ORGANIZER:
URL;VALUE=URI:https://www.svp-sz.ch/aktuell/termine/session-schwyzer-kantonsrat-2/
TRANSP:OPAQUE
END:VEVENT
END:VCALENDAR
