BEGIN:VCALENDAR
VERSION:2.0
PRODID:-//SVP Kanton Schwyz //NONSGML Events //EN
CALSCALE:GREGORIAN
X-WR-CALNAME:SVP Kanton Schwyz
BEGIN:VEVENT
CREATED:20200914T072038Z
UID:10488
DTEND:20201207T000000
DTSTART:20201207T000000
DTSTAMP:20231024T154039Z
LOCATION:
DESCRIPTION:
SUMMARY:Fraktionssitzung
ORGANIZER:
URL;VALUE=URI:https://www.svp-sz.ch/aktuell/termine/fraktionssitzung-3/
TRANSP:OPAQUE
END:VEVENT
END:VCALENDAR
