BEGIN:VCALENDAR
VERSION:2.0
PRODID:-//SVP Kanton Schwyz //NONSGML Events //EN
CALSCALE:GREGORIAN
X-WR-CALNAME:SVP Kanton Schwyz
BEGIN:VEVENT
CREATED:20200914T071937Z
UID:10484
DTEND:20201110T000000
DTSTART:20201110T000000
DTSTAMP:20231024T153715Z
LOCATION:
DESCRIPTION:
SUMMARY:Fraktionssitzung
ORGANIZER:
URL;VALUE=URI:https://www.svp-sz.ch/aktuell/termine/fraktionssitzung/
TRANSP:OPAQUE
END:VEVENT
END:VCALENDAR
