BEGIN:VCALENDAR
VERSION:2.0
PRODID:-//SVP Kanton Schwyz //NONSGML Events //EN
CALSCALE:GREGORIAN
X-WR-CALNAME:SVP Kanton Schwyz
BEGIN:VEVENT
CREATED:20200914T071840Z
UID:10482
DTEND:20201130T200000
DTSTART:20201130T190000
DTSTAMP:20231024T154019Z
LOCATION:Restaurant Distel\, Rothenthurm
DESCRIPTION:Vorbereitung GV (09.12)
SUMMARY:Sitzung Kantonalvorstand
ORGANIZER:
URL;VALUE=URI:https://www.svp-sz.ch/aktuell/termine/kantonalvorstand/
TRANSP:OPAQUE
END:VEVENT
END:VCALENDAR
