BEGIN:VCALENDAR
VERSION:2.0
PRODID:-//SVP Kanton Schwyz //NONSGML Events //EN
CALSCALE:GREGORIAN
X-WR-CALNAME:SVP Kanton Schwyz
BEGIN:VEVENT
CREATED:20200914T071721Z
UID:10480
DTEND:20201209T210000
DTSTART:20201209T200000
DTSTAMP:20231024T153454Z
LOCATION:Hotel Bären\, Lachen
DESCRIPTION:
SUMMARY:ao. Generalversammlung / Budget 2021
ORGANIZER:
URL;VALUE=URI:https://www.svp-sz.ch/aktuell/termine/ao-generalversammlung-budget-2021/
TRANSP:OPAQUE
END:VEVENT
END:VCALENDAR
