BEGIN:VCALENDAR
VERSION:2.0
PRODID:-//SVP Kanton Schwyz //NONSGML Events //EN
CALSCALE:GREGORIAN
X-WR-CALNAME:SVP Kanton Schwyz
BEGIN:VEVENT
CREATED:20200914T071608Z
UID:10478
DTEND:20201105T210000
DTSTART:20201105T200000
DTSTAMP:20231024T154000Z
LOCATION:March
DESCRIPTION:
SUMMARY:Parteiversammlung
ORGANIZER:
URL;VALUE=URI:https://www.svp-sz.ch/aktuell/termine/parteiversammlung-05-11-2020/
TRANSP:OPAQUE
END:VEVENT
END:VCALENDAR
