BEGIN:VCALENDAR
VERSION:2.0
PRODID:-//SVP Kanton Schwyz //NONSGML Events //EN
CALSCALE:GREGORIAN
X-WR-CALNAME:SVP Kanton Schwyz
BEGIN:VEVENT
CREATED:20200914T071440Z
UID:10476
DTEND:20201129T000000
DTSTART:20201129T000000
DTSTAMP:20231024T153937Z
LOCATION:
DESCRIPTION:
SUMMARY:Eidg. und kantonale Abstimmung
ORGANIZER:
URL;VALUE=URI:https://www.svp-sz.ch/aktuell/termine/eidg-und-kantonale-abstimmung/
TRANSP:OPAQUE
END:VEVENT
END:VCALENDAR
